BEGIN:VCALENDAR
VERSION:2.0
PRODID:-//Karsten Töpel - ECPv6.15.16//NONSGML v1.0//EN
CALSCALE:GREGORIAN
METHOD:PUBLISH
X-WR-CALNAME:Karsten Töpel
X-ORIGINAL-URL:https://karsten-toepel.de
X-WR-CALDESC:Veranstaltungen für Karsten Töpel
REFRESH-INTERVAL;VALUE=DURATION:PT1H
X-Robots-Tag:noindex
X-PUBLISHED-TTL:PT1H
BEGIN:VTIMEZONE
TZID:Europe/Berlin
BEGIN:DAYLIGHT
TZOFFSETFROM:+0100
TZOFFSETTO:+0200
TZNAME:CEST
DTSTART:20250330T010000
END:DAYLIGHT
BEGIN:STANDARD
TZOFFSETFROM:+0200
TZOFFSETTO:+0100
TZNAME:CET
DTSTART:20251026T010000
END:STANDARD
BEGIN:DAYLIGHT
TZOFFSETFROM:+0100
TZOFFSETTO:+0200
TZNAME:CEST
DTSTART:20260329T010000
END:DAYLIGHT
BEGIN:STANDARD
TZOFFSETFROM:+0200
TZOFFSETTO:+0100
TZNAME:CET
DTSTART:20261025T010000
END:STANDARD
BEGIN:DAYLIGHT
TZOFFSETFROM:+0100
TZOFFSETTO:+0200
TZNAME:CEST
DTSTART:20270328T010000
END:DAYLIGHT
BEGIN:STANDARD
TZOFFSETFROM:+0200
TZOFFSETTO:+0100
TZNAME:CET
DTSTART:20271031T010000
END:STANDARD
END:VTIMEZONE
BEGIN:VEVENT
DTSTART;TZID=Europe/Berlin:20260806T080000
DTEND;TZID=Europe/Berlin:20260806T110000
DTSTAMP:20260422T035204
CREATED:20260221T101901Z
LAST-MODIFIED:20260221T101901Z
UID:246-1786003200-1786014000@karsten-toepel.de
SUMMARY:Karsten Töpel persönlich vor Ort!
DESCRIPTION:Karsten Töpel ist wieder live vor Ort am Marktplatz für einen Austausch auf Augenhöhe! \nFür ein Kennenlernen oder Fragen steht Karsten gerne zur Verfügung.
URL:https://karsten-toepel.de/termin/karsten-toepel-persoenlich-vor-ort-11/
END:VEVENT
BEGIN:VEVENT
DTSTART;TZID=Europe/Berlin:20260820T080000
DTEND;TZID=Europe/Berlin:20260820T110000
DTSTAMP:20260422T035204
CREATED:20260221T101955Z
LAST-MODIFIED:20260221T101955Z
UID:248-1787212800-1787223600@karsten-toepel.de
SUMMARY:Karsten Töpel persönlich vor Ort!
DESCRIPTION:Karsten Töpel ist wieder live vor Ort am Marktplatz für einen Austausch auf Augenhöhe!\nFür ein Kennenlernen oder Fragen steht Karsten gerne zur Verfügung.
URL:https://karsten-toepel.de/termin/karsten-toepel-persoenlich-vor-ort-12/
END:VEVENT
BEGIN:VEVENT
DTSTART;TZID=Europe/Berlin:20260828T180000
DTEND;TZID=Europe/Berlin:20260828T200000
DTSTAMP:20260422T035204
CREATED:20260223T174904Z
LAST-MODIFIED:20260223T174947Z
UID:277-1787940000-1787947200@karsten-toepel.de
SUMMARY:Mühlenverein Accum - Einladung der Bürgermeisterkandidat (Vorstellungs- und Diskussionsrunde)
DESCRIPTION:„Sehr geehrter Herr Töpel\, \nneben weiteren Interessengruppen der Stadt Schortens besteht auch bei den Bürgerinnen und Bürgern des Dorfes Accum großes Interesse an einer Vorstellungs- und Diskussionsrunde mit den Bürgermeisterkandidatinnen und -kandidaten der Stadt Schortens. \nGerne laden wir Sie daher zu einer Diskussionsrunde am \nFreitag\, den 28.08.2026\, um 18:00 Uhr\nin der Scheune des Mühlenensembles Accum ein.“ \n  \nVielen lieben Dank für die EINLADUNG.
URL:https://karsten-toepel.de/termin/277/
END:VEVENT
END:VCALENDAR