BEGIN:VCALENDAR
VERSION:2.0
PRODID:-//Karsten Töpel - ECPv6.15.16//NONSGML v1.0//EN
CALSCALE:GREGORIAN
METHOD:PUBLISH
X-ORIGINAL-URL:https://karsten-toepel.de
X-WR-CALDESC:Veranstaltungen für Karsten Töpel
REFRESH-INTERVAL;VALUE=DURATION:PT1H
X-Robots-Tag:noindex
X-PUBLISHED-TTL:PT1H
BEGIN:VTIMEZONE
TZID:Europe/Berlin
BEGIN:DAYLIGHT
TZOFFSETFROM:+0100
TZOFFSETTO:+0200
TZNAME:CEST
DTSTART:20250330T010000
END:DAYLIGHT
BEGIN:STANDARD
TZOFFSETFROM:+0200
TZOFFSETTO:+0100
TZNAME:CET
DTSTART:20251026T010000
END:STANDARD
BEGIN:DAYLIGHT
TZOFFSETFROM:+0100
TZOFFSETTO:+0200
TZNAME:CEST
DTSTART:20260329T010000
END:DAYLIGHT
BEGIN:STANDARD
TZOFFSETFROM:+0200
TZOFFSETTO:+0100
TZNAME:CET
DTSTART:20261025T010000
END:STANDARD
BEGIN:DAYLIGHT
TZOFFSETFROM:+0100
TZOFFSETTO:+0200
TZNAME:CEST
DTSTART:20270328T010000
END:DAYLIGHT
BEGIN:STANDARD
TZOFFSETFROM:+0200
TZOFFSETTO:+0100
TZNAME:CET
DTSTART:20271031T010000
END:STANDARD
END:VTIMEZONE
BEGIN:VEVENT
DTSTART;TZID=Europe/Berlin:20260514T080000
DTEND;TZID=Europe/Berlin:20260514T170000
DTSTAMP:20260420T211458
CREATED:20260221T101124Z
LAST-MODIFIED:20260221T101124Z
UID:234-1778745600-1778778000@karsten-toepel.de
SUMMARY:Karsten Töpel persönlich vor Ort!
DESCRIPTION:Karsten Töpel ist wieder live vor Ort am Marktplatz für einen Austausch auf Augenhöhe!\nFür ein Kennenlernen oder Fragen steht Karsten gerne zur Verfügung.
URL:https://karsten-toepel.de/termin/karsten-toepel-persoenlich-vor-ort-5/
END:VEVENT
BEGIN:VEVENT
DTSTART;TZID=Europe/Berlin:20260514T190000
DTEND;TZID=Europe/Berlin:20260514T200000
DTSTAMP:20260420T211458
CREATED:20260221T125337Z
LAST-MODIFIED:20260221T125337Z
UID:266-1778785200-1778788800@karsten-toepel.de
SUMMARY:Einladung Vereinstreffen von Upjever-Lieb-Ich! e. V.
DESCRIPTION:📅 Donnerstag\, 14. Mai 2026 \n🕖 Beginn: 19:00 Uhr \n📍 Ehemaliger evangelischer Kindergarten\, Schortens
URL:https://karsten-toepel.de/termin/einladung-vereinstreffen-von-upjever-lieb-ich-e-v/
END:VEVENT
BEGIN:VEVENT
DTSTART;TZID=Europe/Berlin:20260516T080000
DTEND;TZID=Europe/Berlin:20260516T170000
DTSTAMP:20260420T211458
CREATED:20260315T180716Z
LAST-MODIFIED:20260315T180716Z
UID:317-1778918400-1778950800@karsten-toepel.de
SUMMARY:Wahlbekanntmachung der Stadt Schortens
DESCRIPTION:
URL:https://karsten-toepel.de/termin/wahlbekanntmachung-der-stadt-schortens/
END:VEVENT
BEGIN:VEVENT
DTSTART;TZID=Europe/Berlin:20260518T080000
DTEND;TZID=Europe/Berlin:20260518T170000
DTSTAMP:20260420T211458
CREATED:20260315T180749Z
LAST-MODIFIED:20260315T180749Z
UID:319-1779091200-1779123600@karsten-toepel.de
SUMMARY:Einreichung des Wahlvorschlags
DESCRIPTION:
URL:https://karsten-toepel.de/termin/einreichung-des-wahlvorschlags/
END:VEVENT
BEGIN:VEVENT
DTSTART;TZID=Europe/Berlin:20260519T080000
DTEND;TZID=Europe/Berlin:20260519T170000
DTSTAMP:20260420T211458
CREATED:20260315T180911Z
LAST-MODIFIED:20260315T180911Z
UID:321-1779177600-1779210000@karsten-toepel.de
SUMMARY:Beginn der Sammlung der Unterstützungsunterschriften
DESCRIPTION:170 Stück oder mehr \nDeadline 4 Wochen 🙂
URL:https://karsten-toepel.de/termin/beginn-der-sammlung-der-unterstuetzungsunterschriften/
END:VEVENT
BEGIN:VEVENT
DTSTART;TZID=Europe/Berlin:20260528T080000
DTEND;TZID=Europe/Berlin:20260528T170000
DTSTAMP:20260420T211458
CREATED:20260221T101203Z
LAST-MODIFIED:20260221T101203Z
UID:236-1779955200-1779987600@karsten-toepel.de
SUMMARY:Karsten Töpel persönlich vor Ort!
DESCRIPTION:Karsten Töpel ist wieder live vor Ort am Marktplatz für einen Austausch auf Augenhöhe!\nFür ein Kennenlernen oder Fragen steht Karsten gerne zur Verfügung.
URL:https://karsten-toepel.de/termin/karsten-toepel-persoenlich-vor-ort-6/
END:VEVENT
END:VCALENDAR