BEGIN:VCALENDAR
VERSION:2.0
PRODID:-//Karsten Töpel - ECPv6.15.16//NONSGML v1.0//EN
CALSCALE:GREGORIAN
METHOD:PUBLISH
X-ORIGINAL-URL:https://karsten-toepel.de
X-WR-CALDESC:Veranstaltungen für Karsten Töpel
REFRESH-INTERVAL;VALUE=DURATION:PT1H
X-Robots-Tag:noindex
X-PUBLISHED-TTL:PT1H
BEGIN:VTIMEZONE
TZID:Europe/Berlin
BEGIN:DAYLIGHT
TZOFFSETFROM:+0100
TZOFFSETTO:+0200
TZNAME:CEST
DTSTART:20250330T010000
END:DAYLIGHT
BEGIN:STANDARD
TZOFFSETFROM:+0200
TZOFFSETTO:+0100
TZNAME:CET
DTSTART:20251026T010000
END:STANDARD
BEGIN:DAYLIGHT
TZOFFSETFROM:+0100
TZOFFSETTO:+0200
TZNAME:CEST
DTSTART:20260329T010000
END:DAYLIGHT
BEGIN:STANDARD
TZOFFSETFROM:+0200
TZOFFSETTO:+0100
TZNAME:CET
DTSTART:20261025T010000
END:STANDARD
BEGIN:DAYLIGHT
TZOFFSETFROM:+0100
TZOFFSETTO:+0200
TZNAME:CEST
DTSTART:20270328T010000
END:DAYLIGHT
BEGIN:STANDARD
TZOFFSETFROM:+0200
TZOFFSETTO:+0100
TZNAME:CET
DTSTART:20271031T010000
END:STANDARD
END:VTIMEZONE
BEGIN:VEVENT
DTSTART;TZID=Europe/Berlin:20260416T080000
DTEND;TZID=Europe/Berlin:20260416T110000
DTSTAMP:20260420T120105
CREATED:20260221T100809Z
LAST-MODIFIED:20260221T100819Z
UID:226-1776326400-1776337200@karsten-toepel.de
SUMMARY:Karsten Töpel persönlich vor Ort!
DESCRIPTION:Karsten Töpel ist wieder live vor Ort am Marktplatz für einen Austausch auf Augenhöhe!\nFür ein Kennenlernen oder Fragen steht Karsten gerne zur Verfügung.
URL:https://karsten-toepel.de/termin/karsten-toepel-persoenlich-vor-ort-3/
END:VEVENT
BEGIN:VEVENT
DTSTART;TZID=Europe/Berlin:20260412T090000
DTEND;TZID=Europe/Berlin:20260412T123000
DTSTAMP:20260420T120105
CREATED:20260328T091859Z
LAST-MODIFIED:20260328T092108Z
UID:330-1775984400-1775997000@karsten-toepel.de
SUMMARY:46. Schortenser Straßenlauf
DESCRIPTION:10:15 Uhr START \n10 km Lauf \nStart Stadion Bethovenstraße – Am Fort – Bebelstraße – Jeversche\nStraße – Sylter Straße – Norderneystraße – Klosterweg (K94) –\nGinsterweg – Schooster Straße (K95) – Klosterweg (K 94) – Mühlenweg\n– Beethovenstraße – Ziel Stadion Beethovenstraße \n\n\n\nSiegerehrung\n\n\n\nFindet 30min nach jedem Lauf im Stadion an der Beethovenstraße statt.
URL:https://karsten-toepel.de/termin/46-schortenser-strassenlauf/
END:VEVENT
BEGIN:VEVENT
DTSTART;TZID=Europe/Berlin:20260402T090000
DTEND;TZID=Europe/Berlin:20260402T113000
DTSTAMP:20260420T120105
CREATED:20260328T092234Z
LAST-MODIFIED:20260328T092234Z
UID:333-1775120400-1775129400@karsten-toepel.de
SUMMARY:Karsten Töpel persönlich vor Ort!
DESCRIPTION:Karsten Töpel ist wieder live vor Ort am Marktplatz für einen Austausch auf Augenhöhe! Für ein Kennenlernen oder Fragen steht Karsten gerne zur Verfügung.
URL:https://karsten-toepel.de/termin/karsten-toepel-persoenlich-vor-ort-15/
END:VEVENT
END:VCALENDAR