BEGIN:VCALENDAR
VERSION:2.0
PRODID:-//Karsten Töpel - ECPv6.15.16//NONSGML v1.0//EN
CALSCALE:GREGORIAN
METHOD:PUBLISH
X-WR-CALNAME:Karsten Töpel
X-ORIGINAL-URL:https://karsten-toepel.de
X-WR-CALDESC:Veranstaltungen für Karsten Töpel
REFRESH-INTERVAL;VALUE=DURATION:PT1H
X-Robots-Tag:noindex
X-PUBLISHED-TTL:PT1H
BEGIN:VTIMEZONE
TZID:Europe/Berlin
BEGIN:DAYLIGHT
TZOFFSETFROM:+0100
TZOFFSETTO:+0200
TZNAME:CEST
DTSTART:20250330T010000
END:DAYLIGHT
BEGIN:STANDARD
TZOFFSETFROM:+0200
TZOFFSETTO:+0100
TZNAME:CET
DTSTART:20251026T010000
END:STANDARD
BEGIN:DAYLIGHT
TZOFFSETFROM:+0100
TZOFFSETTO:+0200
TZNAME:CEST
DTSTART:20260329T010000
END:DAYLIGHT
BEGIN:STANDARD
TZOFFSETFROM:+0200
TZOFFSETTO:+0100
TZNAME:CET
DTSTART:20261025T010000
END:STANDARD
BEGIN:DAYLIGHT
TZOFFSETFROM:+0100
TZOFFSETTO:+0200
TZNAME:CEST
DTSTART:20270328T010000
END:DAYLIGHT
BEGIN:STANDARD
TZOFFSETFROM:+0200
TZOFFSETTO:+0100
TZNAME:CET
DTSTART:20271031T010000
END:STANDARD
END:VTIMEZONE
BEGIN:VEVENT
DTSTART;VALUE=DATE:20260913
DTEND;VALUE=DATE:20260914
DTSTAMP:20260422T221043
CREATED:20260221T102741Z
LAST-MODIFIED:20260221T102741Z
UID:254-1789257600-1789343999@karsten-toepel.de
SUMMARY:Kommunalwahl 2026
DESCRIPTION:Was wird am 13.09.2026 in Schortens gewählt?\nAm 13. September 2026 finden in Niedersachsen die Kommunalwahlen statt. Für Schortens bedeutet das ganz konkret: \n✔ Bürgermeister der Stadt Schortens\n✔ Rat der Stadt Schortens\n✔ Landrat des Landkreises (LK) Friesland\n✔ Kreistag LK Friesland
URL:https://karsten-toepel.de/termin/kommunalwahl-2026/
END:VEVENT
END:VCALENDAR